BEGIN:VCALENDAR
VERSION:2.0
PRODID:-//jEvents 2.0 for Joomla//EN
CALSCALE:GREGORIAN
METHOD:PUBLISH
BEGIN:VTIMEZONE
TZID:Europe/Berlin
BEGIN:STANDARD
DTSTART:20231029T020000
RDATE:20240331T030000
TZOFFSETFROM:+0200
TZOFFSETTO:+0100
TZNAME:Europe/Berlin CET
END:STANDARD
BEGIN:STANDARD
DTSTART:20241027T020000
RDATE:20250330T030000
TZOFFSETFROM:+0200
TZOFFSETTO:+0100
TZNAME:Europe/Berlin CET
END:STANDARD
BEGIN:STANDARD
DTSTART:20251026T020000
RDATE:20260329T030000
TZOFFSETFROM:+0200
TZOFFSETTO:+0100
TZNAME:Europe/Berlin CET
END:STANDARD
BEGIN:STANDARD
DTSTART:20261025T020000
RDATE:20270328T030000
TZOFFSETFROM:+0200
TZOFFSETTO:+0100
TZNAME:Europe/Berlin CET
END:STANDARD
BEGIN:STANDARD
DTSTART:20271031T020000
RDATE:20280326T030000
TZOFFSETFROM:+0200
TZOFFSETTO:+0100
TZNAME:Europe/Berlin CET
END:STANDARD
BEGIN:STANDARD
DTSTART:20281029T020000
RDATE:20290325T030000
TZOFFSETFROM:+0200
TZOFFSETTO:+0100
TZNAME:Europe/Berlin CET
END:STANDARD
BEGIN:STANDARD
DTSTART:20291028T020000
RDATE:20300331T030000
TZOFFSETFROM:+0200
TZOFFSETTO:+0100
TZNAME:Europe/Berlin CET
END:STANDARD
BEGIN:STANDARD
DTSTART:20301027T020000
RDATE:20310330T030000
TZOFFSETFROM:+0200
TZOFFSETTO:+0100
TZNAME:Europe/Berlin CET
END:STANDARD
BEGIN:STANDARD
DTSTART:20311026T020000
RDATE:20320328T030000
TZOFFSETFROM:+0200
TZOFFSETTO:+0100
TZNAME:Europe/Berlin CET
END:STANDARD
BEGIN:DAYLIGHT
DTSTART:20230908T000000
RDATE:20231029T020000
TZOFFSETFROM:+0100
TZOFFSETTO:+0200
TZNAME:Europe/Berlin CEST
END:DAYLIGHT
BEGIN:DAYLIGHT
DTSTART:20240331T030000
RDATE:20241027T020000
TZOFFSETFROM:+0100
TZOFFSETTO:+0200
TZNAME:Europe/Berlin CEST
END:DAYLIGHT
BEGIN:DAYLIGHT
DTSTART:20250330T030000
RDATE:20251026T020000
TZOFFSETFROM:+0100
TZOFFSETTO:+0200
TZNAME:Europe/Berlin CEST
END:DAYLIGHT
BEGIN:DAYLIGHT
DTSTART:20260329T030000
RDATE:20261025T020000
TZOFFSETFROM:+0100
TZOFFSETTO:+0200
TZNAME:Europe/Berlin CEST
END:DAYLIGHT
BEGIN:DAYLIGHT
DTSTART:20270328T030000
RDATE:20271031T020000
TZOFFSETFROM:+0100
TZOFFSETTO:+0200
TZNAME:Europe/Berlin CEST
END:DAYLIGHT
BEGIN:DAYLIGHT
DTSTART:20280326T030000
RDATE:20281029T020000
TZOFFSETFROM:+0100
TZOFFSETTO:+0200
TZNAME:Europe/Berlin CEST
END:DAYLIGHT
BEGIN:DAYLIGHT
DTSTART:20290325T030000
RDATE:20291028T020000
TZOFFSETFROM:+0100
TZOFFSETTO:+0200
TZNAME:Europe/Berlin CEST
END:DAYLIGHT
BEGIN:DAYLIGHT
DTSTART:20300331T030000
RDATE:20301027T020000
TZOFFSETFROM:+0100
TZOFFSETTO:+0200
TZNAME:Europe/Berlin CEST
END:DAYLIGHT
BEGIN:DAYLIGHT
DTSTART:20310330T030000
RDATE:20311026T020000
TZOFFSETFROM:+0100
TZOFFSETTO:+0200
TZNAME:Europe/Berlin CEST
END:DAYLIGHT
END:VTIMEZONE
BEGIN:VEVENT
UID:05b12d688b17572fcd2d79e30aa46a4b
CATEGORIES:Oldtimertreffen
CREATED:20240219T212442
SUMMARY:Klassikertreffen 2024
LOCATION:Rüsselsheim
DESCRIPTION:Nach der bedauerlichen Absage des Klassikertreffens 2023 hat die Stadt Rüss
 elsheim die Neuauflage 2024 in einer Pressemitteilung angekündigt.\nMit ein
 em überarbeiteten Konzept hat die Stadt Rüsselsheim das 20. Klassikertreffe
 n am 08. September 2024 angkündigt.\nHier geht's zur Pressemitteilung. (htt
 ps://www.ruesselsheim.de/presseinformationen/pressemeldungen/6649.html)\nUn
 d hier zur <a title="Klassikertreffen" href="https://www.main-ruesselsheim.
 de/sehen-und-erleben/veranstaltungen/klassikertreffen/" target="_blank" rel
 ="noopener noreferrer">Webseite der Veranstaltung.</a>\n
X-ALT-DESC;FMTTYPE=text/html:<p>Nach der bedauerlichen Absage des Klassikertreffens 2023 hat die Stadt R
 üsselsheim die Neuauflage 2024 in einer Pressemitteilung angekündigt.</p><p
 >Mit einem überarbeiteten Konzept hat die Stadt Rüsselsheim das 20. Klassik
 ertreffen am 08. September 2024 angkündigt.<br />Hier geht's zur <a title="
 Klassikertreffen 2024" href="https://www.ruesselsheim.de/presseinformatione
 n/pressemeldungen/6649.html" target="_blank" rel="noopener noreferrer">Pres
 semitteilung.</a></p><p>Und hier zur <a title="Klassikertreffen" href="http
 s://www.main-ruesselsheim.de/sehen-und-erleben/veranstaltungen/klassikertre
 ffen/" target="_blank" rel="noopener noreferrer">Webseite der Veranstaltung
 .</a></p>
DTSTAMP:20260423T132256Z
DTSTART;TZID=Europe/Berlin;VALUE=DATE:20240908
DTEND;TZID=Europe/Berlin;VALUE=DATE:20240909
SEQUENCE:0
TRANSP:OPAQUE
END:VEVENT
END:VCALENDAR